BEGIN:VCALENDAR
VERSION:2.0
PRODID:-//Rogersville Area Chamber of Commerce - ECPv6.15.20//NONSGML v1.0//EN
CALSCALE:GREGORIAN
METHOD:PUBLISH
X-ORIGINAL-URL:https://rogersvillechamber.com
X-WR-CALDESC:Events for Rogersville Area Chamber of Commerce
REFRESH-INTERVAL;VALUE=DURATION:PT1H
X-Robots-Tag:noindex
X-PUBLISHED-TTL:PT1H
BEGIN:VTIMEZONE
TZID:America/Chicago
BEGIN:DAYLIGHT
TZOFFSETFROM:-0600
TZOFFSETTO:-0500
TZNAME:CDT
DTSTART:20220313T080000
END:DAYLIGHT
BEGIN:STANDARD
TZOFFSETFROM:-0500
TZOFFSETTO:-0600
TZNAME:CST
DTSTART:20221106T070000
END:STANDARD
BEGIN:DAYLIGHT
TZOFFSETFROM:-0600
TZOFFSETTO:-0500
TZNAME:CDT
DTSTART:20230312T080000
END:DAYLIGHT
BEGIN:STANDARD
TZOFFSETFROM:-0500
TZOFFSETTO:-0600
TZNAME:CST
DTSTART:20231105T070000
END:STANDARD
BEGIN:DAYLIGHT
TZOFFSETFROM:-0600
TZOFFSETTO:-0500
TZNAME:CDT
DTSTART:20240310T080000
END:DAYLIGHT
BEGIN:STANDARD
TZOFFSETFROM:-0500
TZOFFSETTO:-0600
TZNAME:CST
DTSTART:20241103T070000
END:STANDARD
END:VTIMEZONE
BEGIN:VEVENT
DTSTART;TZID=America/Chicago:20230411T114500
DTEND;TZID=America/Chicago:20230411T130000
DTSTAMP:20260420T062213
CREATED:20230329T174135Z
LAST-MODIFIED:20230329T193352Z
UID:5480-1681213500-1681218000@rogersvillechamber.com
SUMMARY:April Membership Meeting
DESCRIPTION:Be sure to RSVP even if you won’t be enjoying lunch! \nIt is highly recommended to RSVP for lunch PRIOR to the event date as food is often catered in according to the number of RSVP’s. If you would like lunch\, but want to pay at the door please email me HERE. \nMEETING DETAILS\nGuest Speaker: Lori Pace | Hospital Services Specialist for Mid-America Transplant\nTopic: “Inspired by Life— Understanding the Facts and Myths of Organ & Tissue Donation.”\nCost: Free to attend. Lunch is optional. \nLUNCH DETAILS\nCost for Lunch: $15.00 per person; you MUST RSVP for lunch prior to event.\nMenu: Catered by Samuel Cedars – NEW Asian inspired menu! \nBeef and Broccoli\nFried Chicken Bites\nCashew and Sweet and Sour Sauce\nFried & Steamed Rice\nEgg Rolls and Crab Rangoons\nCookies\nTea/Lemonade\n\nDATE & LOCATION\nApril 11\, 2023 | 11:45am – 1:00pm\nSamuel Cedars Event Center\n5124 S. Farm Road 213\nRogersville\, MO
URL:https://rogersvillechamber.com/event/april-membership-meeting/
LOCATION:Samuel Cedars\, 5124 S Farm Rd 213\, Rogersville\, MO\, 65742\, United States
CATEGORIES:Membership Meeting
ATTACH;FMTTYPE=image/png:https://rogersvillechamber.com/media/uploads/2023/03/Copy-of-Chamber-Membership-Meetings-8.png
ORGANIZER;CN="Rogersville Area Chamber of Commerce":MAILTO:info@rogersvillechamber.com
END:VEVENT
END:VCALENDAR