BEGIN:VCALENDAR
VERSION:2.0
PRODID:-//Rogersville Area Chamber of Commerce - ECPv6.15.20//NONSGML v1.0//EN
CALSCALE:GREGORIAN
METHOD:PUBLISH
X-WR-CALNAME:Rogersville Area Chamber of Commerce
X-ORIGINAL-URL:https://rogersvillechamber.com
X-WR-CALDESC:Events for Rogersville Area Chamber of Commerce
REFRESH-INTERVAL;VALUE=DURATION:PT1H
X-Robots-Tag:noindex
X-PUBLISHED-TTL:PT1H
BEGIN:VTIMEZONE
TZID:America/Chicago
BEGIN:DAYLIGHT
TZOFFSETFROM:-0600
TZOFFSETTO:-0500
TZNAME:CDT
DTSTART:20220313T080000
END:DAYLIGHT
BEGIN:STANDARD
TZOFFSETFROM:-0500
TZOFFSETTO:-0600
TZNAME:CST
DTSTART:20221106T070000
END:STANDARD
BEGIN:DAYLIGHT
TZOFFSETFROM:-0600
TZOFFSETTO:-0500
TZNAME:CDT
DTSTART:20230312T080000
END:DAYLIGHT
BEGIN:STANDARD
TZOFFSETFROM:-0500
TZOFFSETTO:-0600
TZNAME:CST
DTSTART:20231105T070000
END:STANDARD
BEGIN:DAYLIGHT
TZOFFSETFROM:-0600
TZOFFSETTO:-0500
TZNAME:CDT
DTSTART:20240310T080000
END:DAYLIGHT
BEGIN:STANDARD
TZOFFSETFROM:-0500
TZOFFSETTO:-0600
TZNAME:CST
DTSTART:20241103T070000
END:STANDARD
END:VTIMEZONE
BEGIN:VEVENT
DTSTART;TZID=America/Chicago:20230420T180000
DTEND;TZID=America/Chicago:20230420T210000
DTSTAMP:20260420T074413
CREATED:20230114T012651Z
LAST-MODIFIED:20230114T012651Z
UID:5129-1682013600-1682024400@rogersvillechamber.com
SUMMARY:Father Daughter Dance 2023 | CreedsTown Ranch
DESCRIPTION:Join us for our 2023 annual Father Daughter Dance!  \nEvent is open to students 6th grade and younger.
URL:https://rogersvillechamber.com/event/father-daughter-dance-2023-creedstown-ranch/
LOCATION:Creedtown Ranch\, 1625 Century Farm Road\, Fordland\, MO\, 65654\, United States
CATEGORIES:Parties
ORGANIZER;CN="CreedsTown Ranch":MAILTO:creedstownranch@gmail.com
END:VEVENT
END:VCALENDAR