BEGIN:VCALENDAR
VERSION:2.0
PRODID:-//Rogersville Area Chamber of Commerce - ECPv6.15.20//NONSGML v1.0//EN
CALSCALE:GREGORIAN
METHOD:PUBLISH
X-ORIGINAL-URL:https://rogersvillechamber.com
X-WR-CALDESC:Events for Rogersville Area Chamber of Commerce
REFRESH-INTERVAL;VALUE=DURATION:PT1H
X-Robots-Tag:noindex
X-PUBLISHED-TTL:PT1H
BEGIN:VTIMEZONE
TZID:America/Chicago
BEGIN:DAYLIGHT
TZOFFSETFROM:-0600
TZOFFSETTO:-0500
TZNAME:CDT
DTSTART:20220313T080000
END:DAYLIGHT
BEGIN:STANDARD
TZOFFSETFROM:-0500
TZOFFSETTO:-0600
TZNAME:CST
DTSTART:20221106T070000
END:STANDARD
BEGIN:DAYLIGHT
TZOFFSETFROM:-0600
TZOFFSETTO:-0500
TZNAME:CDT
DTSTART:20230312T080000
END:DAYLIGHT
BEGIN:STANDARD
TZOFFSETFROM:-0500
TZOFFSETTO:-0600
TZNAME:CST
DTSTART:20231105T070000
END:STANDARD
BEGIN:DAYLIGHT
TZOFFSETFROM:-0600
TZOFFSETTO:-0500
TZNAME:CDT
DTSTART:20240310T080000
END:DAYLIGHT
BEGIN:STANDARD
TZOFFSETFROM:-0500
TZOFFSETTO:-0600
TZNAME:CST
DTSTART:20241103T070000
END:STANDARD
END:VTIMEZONE
BEGIN:VEVENT
DTSTART;TZID=America/Chicago:20230808T114500
DTEND;TZID=America/Chicago:20230808T130000
DTSTAMP:20260420T112719
CREATED:20230803T165703Z
LAST-MODIFIED:20230807T205102Z
UID:5891-1691495100-1691499600@rogersvillechamber.com
SUMMARY:August Membership Meeting
DESCRIPTION:Be sure to RSVP even if you won’t be enjoying lunch! \nIt is highly recommended to RSVP for lunch PRIOR to the event date as food is often catered according to the number of RSVPs. \nMEETING DETAILS\nGuest Speaker: Stephanie White | Rogersville Chamber of Commerce\nTopic: The new Rogersville License Office & Chamber relocation\nCost: Free to attend \nLUNCH DETAILS\nCost for Lunch: Lunch will be provided to chamber members FREE of charge in July by a generous Rogersville business owner\, who has chosen to remain anonymous; you MUST STILL RSVP for lunch prior to the event.\nMenu: Catered by Catering Creations \nBBQ \nDessert: TBD\nDrinks: Water & Tea\n\nDATE & LOCATION\nAugust 8\, 2023 | 11:45am – 1:00pm\n\nSamuel Cedars Event Center\n5124 S. Farm Rd. 213\nRogersville\, MO
URL:https://rogersvillechamber.com/event/august-membership-meeting/
LOCATION:Samuel Cedars\, 5124 S Farm Rd 213\, Rogersville\, MO\, 65742\, United States
CATEGORIES:Membership Meeting
ATTACH;FMTTYPE=image/png:https://rogersvillechamber.com/media/uploads/2023/08/Copy-of-Chamber-Membership-Meetings-12.png
ORGANIZER;CN="Rogersville Area Chamber of Commerce":MAILTO:info@rogersvillechamber.com
END:VEVENT
END:VCALENDAR