BEGIN:VCALENDAR
VERSION:2.0
PRODID:-//Rogersville Area Chamber of Commerce - ECPv6.15.20//NONSGML v1.0//EN
CALSCALE:GREGORIAN
METHOD:PUBLISH
X-WR-CALNAME:Rogersville Area Chamber of Commerce
X-ORIGINAL-URL:https://rogersvillechamber.com
X-WR-CALDESC:Events for Rogersville Area Chamber of Commerce
REFRESH-INTERVAL;VALUE=DURATION:PT1H
X-Robots-Tag:noindex
X-PUBLISHED-TTL:PT1H
BEGIN:VTIMEZONE
TZID:America/Chicago
BEGIN:DAYLIGHT
TZOFFSETFROM:-0600
TZOFFSETTO:-0500
TZNAME:CDT
DTSTART:20220313T080000
END:DAYLIGHT
BEGIN:STANDARD
TZOFFSETFROM:-0500
TZOFFSETTO:-0600
TZNAME:CST
DTSTART:20221106T070000
END:STANDARD
BEGIN:DAYLIGHT
TZOFFSETFROM:-0600
TZOFFSETTO:-0500
TZNAME:CDT
DTSTART:20230312T080000
END:DAYLIGHT
BEGIN:STANDARD
TZOFFSETFROM:-0500
TZOFFSETTO:-0600
TZNAME:CST
DTSTART:20231105T070000
END:STANDARD
BEGIN:DAYLIGHT
TZOFFSETFROM:-0600
TZOFFSETTO:-0500
TZNAME:CDT
DTSTART:20240310T080000
END:DAYLIGHT
BEGIN:STANDARD
TZOFFSETFROM:-0500
TZOFFSETTO:-0600
TZNAME:CST
DTSTART:20241103T070000
END:STANDARD
END:VTIMEZONE
BEGIN:VEVENT
DTSTART;TZID=America/Chicago:20231114T114500
DTEND;TZID=America/Chicago:20231114T130000
DTSTAMP:20260420T142954
CREATED:20231025T213015Z
LAST-MODIFIED:20231025T213110Z
UID:6087-1699962300-1699966800@rogersvillechamber.com
SUMMARY:November Membership Meeting
DESCRIPTION:Be sure to RSVP even if you won’t be enjoying lunch! \nIt is highly recommended to RSVP for lunch PRIOR to the event date as food is often catered according to the number of RSVPs. If you would like lunch but want to pay at the door please email me HERE. \nMEETING DETAILS\nGuest Speaker: Matt Henderson | Henderson Media\nTopic: Attract Customers who’ve Never Heard of Your Business (without paid ads\, blogging\, SEO\, or social media)\nCost: Free to attend. Lunch is optional. \nLUNCH DETAILS\nCost for Lunch: $15.00 per person; you MUST RSVP for lunch prior to event.\nMenu: Catered by Thyme to Loaf \nHot Baked Ham & Cheese Sliders\nChips\nGarden Salad\n\nDessert: Assorted homemade pie slices\nDrinks: Water & Tea\n\nDATE & LOCATION\nNovember 14\, 2023 | 11:45am – 1:00pm\nThyme to Loaf\n101 N. Mill Street\nRogersville\, MO
URL:https://rogersvillechamber.com/event/november-membership-meeting-2/
LOCATION:Thyme to Loaf\, 101 N. Mill\, Rogersville\, MO\, 65742\, United States
CATEGORIES:Membership Meeting
ATTACH;FMTTYPE=image/png:https://rogersvillechamber.com/media/uploads/2023/10/Copy-of-Chamber-Membership-Meetings.png
ORGANIZER;CN="Rogersville Area Chamber of Commerce":MAILTO:info@rogersvillechamber.com
END:VEVENT
END:VCALENDAR