BEGIN:VCALENDAR
VERSION:2.0
PRODID:-//Rogersville Area Chamber of Commerce - ECPv6.15.20//NONSGML v1.0//EN
CALSCALE:GREGORIAN
METHOD:PUBLISH
X-ORIGINAL-URL:https://rogersvillechamber.com
X-WR-CALDESC:Events for Rogersville Area Chamber of Commerce
REFRESH-INTERVAL;VALUE=DURATION:PT1H
X-Robots-Tag:noindex
X-PUBLISHED-TTL:PT1H
BEGIN:VTIMEZONE
TZID:America/Chicago
BEGIN:DAYLIGHT
TZOFFSETFROM:-0600
TZOFFSETTO:-0500
TZNAME:CDT
DTSTART:20240310T080000
END:DAYLIGHT
BEGIN:STANDARD
TZOFFSETFROM:-0500
TZOFFSETTO:-0600
TZNAME:CST
DTSTART:20241103T070000
END:STANDARD
BEGIN:DAYLIGHT
TZOFFSETFROM:-0600
TZOFFSETTO:-0500
TZNAME:CDT
DTSTART:20250309T080000
END:DAYLIGHT
BEGIN:STANDARD
TZOFFSETFROM:-0500
TZOFFSETTO:-0600
TZNAME:CST
DTSTART:20251102T070000
END:STANDARD
BEGIN:DAYLIGHT
TZOFFSETFROM:-0600
TZOFFSETTO:-0500
TZNAME:CDT
DTSTART:20260308T080000
END:DAYLIGHT
BEGIN:STANDARD
TZOFFSETFROM:-0500
TZOFFSETTO:-0600
TZNAME:CST
DTSTART:20261101T070000
END:STANDARD
END:VTIMEZONE
BEGIN:VEVENT
DTSTART;TZID=America/Chicago:20250708T114500
DTEND;TZID=America/Chicago:20250708T130000
DTSTAMP:20260420T100043
CREATED:20250226T211028Z
LAST-MODIFIED:20250616T183350Z
UID:7535-1751975100-1751979600@rogersvillechamber.com
SUMMARY:July Membership Meeting 2025
DESCRIPTION:Membership Meeting\nYOU MUST RSVP & PAY PRIOR TO THE EVENT IF YOU ARE EATING\nLast day to RSVP for lunch is 07/05/2024 \nMEETING DETAILS \nGuest Speaker: Heather Noggle \nSuper Small Business Cybersecurity – quick wins \nDiscussion points: \n\nWhere to start\nWhy to do the work\nWhy the work never ends but changes as you grow and as technology changes\nResources\n\nHeather Noggle has built a 30-year career consisting of HR\, software development\, data integration\, cybersecurity\, project management\, business ownership\, speaking\, and writing. Passionate about small business cybersecurity\, Heather blends her expertise with engaging storytelling\, often using analogies and AI-generated images of black cats in cybersecurity-themed antics and circumstances on social media to raise awareness within the small business community. \nHeather serves as Vice Chair of the Springfield Tech Council and also volunteers with Redeemer Lutheran Church and the Missouri Cybersecurity Center of Excellence.\n\n\nCost: Free to attend. Lunch is $15 \nLUNCH DETAILS\nCost for Lunch: $15\nMenu: Yogasaki\nHibachi Steak or Chicken\nw/ Fried Rice or Steamed Rice\nVegetable\nCrab Rangoon and Egg Rolls \nDATE & LOCATION:\nJuly 8th 2025 | 11:45am – 1:00pm \nStory Church \nYou MUST RSVP and PAY for lunch PRIOR to the event date as food is catered in according to the number of paid RSVP’s.
URL:https://rogersvillechamber.com/event/july-membership-meeting-2025/
LOCATION:MO
END:VEVENT
END:VCALENDAR