BEGIN:VCALENDAR
VERSION:2.0
PRODID:-//Rogersville Area Chamber of Commerce - ECPv6.15.20//NONSGML v1.0//EN
CALSCALE:GREGORIAN
METHOD:PUBLISH
X-ORIGINAL-URL:https://rogersvillechamber.com
X-WR-CALDESC:Events for Rogersville Area Chamber of Commerce
REFRESH-INTERVAL;VALUE=DURATION:PT1H
X-Robots-Tag:noindex
X-PUBLISHED-TTL:PT1H
BEGIN:VTIMEZONE
TZID:America/Chicago
BEGIN:DAYLIGHT
TZOFFSETFROM:-0600
TZOFFSETTO:-0500
TZNAME:CDT
DTSTART:20220313T080000
END:DAYLIGHT
BEGIN:STANDARD
TZOFFSETFROM:-0500
TZOFFSETTO:-0600
TZNAME:CST
DTSTART:20221106T070000
END:STANDARD
BEGIN:DAYLIGHT
TZOFFSETFROM:-0600
TZOFFSETTO:-0500
TZNAME:CDT
DTSTART:20230312T080000
END:DAYLIGHT
BEGIN:STANDARD
TZOFFSETFROM:-0500
TZOFFSETTO:-0600
TZNAME:CST
DTSTART:20231105T070000
END:STANDARD
BEGIN:DAYLIGHT
TZOFFSETFROM:-0600
TZOFFSETTO:-0500
TZNAME:CDT
DTSTART:20240310T080000
END:DAYLIGHT
BEGIN:STANDARD
TZOFFSETFROM:-0500
TZOFFSETTO:-0600
TZNAME:CST
DTSTART:20241103T070000
END:STANDARD
END:VTIMEZONE
BEGIN:VEVENT
DTSTART;TZID=America/Chicago:20230901T190000
DTEND;TZID=America/Chicago:20230901T220000
DTSTAMP:20260421T080838
CREATED:20230714T144121Z
LAST-MODIFIED:20230714T144121Z
UID:5866-1693594800-1693605600@rogersvillechamber.com
SUMMARY:Truck and Tractor Pull Benefiting Craig Wray
DESCRIPTION:Craig Wray has been diagnosed with stage 4 cancer. If you know Craig\, you love him for his kind heart and his amazing character. An account has been established at Citizens Bank of Rogersville for donations to help pay for event insurance\, the sled\, trophies\, advertisement\, and so on. The account name is the Craig Wray Benefit Truck & Tractor Pull. This account will pay for necessary expenses and when the event is complete\, the account will be dissolved and the money given to Craig and his family to help with medical expenses.
URL:https://rogersvillechamber.com/event/truck-and-tractor-pull-benefiting-craig-wray/
LOCATION:Rogersville City Park\, 270 County Line Rd.\, Rogersville\, MO\, 65742\, United States
CATEGORIES:Community Event
ATTACH;FMTTYPE=image/jpeg:https://rogersvillechamber.com/media/uploads/2023/07/Tractor-Pull.jpg
END:VEVENT
END:VCALENDAR