BEGIN:VCALENDAR
VERSION:2.0
PRODID:-//Rogersville Area Chamber of Commerce - ECPv6.15.20//NONSGML v1.0//EN
CALSCALE:GREGORIAN
METHOD:PUBLISH
X-WR-CALNAME:Rogersville Area Chamber of Commerce
X-ORIGINAL-URL:https://rogersvillechamber.com
X-WR-CALDESC:Events for Rogersville Area Chamber of Commerce
REFRESH-INTERVAL;VALUE=DURATION:PT1H
X-Robots-Tag:noindex
X-PUBLISHED-TTL:PT1H
BEGIN:VTIMEZONE
TZID:America/Chicago
BEGIN:DAYLIGHT
TZOFFSETFROM:-0600
TZOFFSETTO:-0500
TZNAME:CDT
DTSTART:20220313T080000
END:DAYLIGHT
BEGIN:STANDARD
TZOFFSETFROM:-0500
TZOFFSETTO:-0600
TZNAME:CST
DTSTART:20221106T070000
END:STANDARD
BEGIN:DAYLIGHT
TZOFFSETFROM:-0600
TZOFFSETTO:-0500
TZNAME:CDT
DTSTART:20230312T080000
END:DAYLIGHT
BEGIN:STANDARD
TZOFFSETFROM:-0500
TZOFFSETTO:-0600
TZNAME:CST
DTSTART:20231105T070000
END:STANDARD
BEGIN:DAYLIGHT
TZOFFSETFROM:-0600
TZOFFSETTO:-0500
TZNAME:CDT
DTSTART:20240310T080000
END:DAYLIGHT
BEGIN:STANDARD
TZOFFSETFROM:-0500
TZOFFSETTO:-0600
TZNAME:CST
DTSTART:20241103T070000
END:STANDARD
END:VTIMEZONE
BEGIN:VEVENT
DTSTART;TZID=America/Chicago:20231031T180000
DTEND;TZID=America/Chicago:20231031T193000
DTSTAMP:20260420T075030
CREATED:20231025T161742Z
LAST-MODIFIED:20231025T161742Z
UID:6084-1698775200-1698780600@rogersvillechamber.com
SUMMARY:Trunk or Treat Fordland Clinic
DESCRIPTION:We can’t wait to share treats with you from 6 p.m. to 7:30 p.m. on 10/31 inside our Fordland\, MO location! Young people and the young at heart\, please join us in costume or your everyday outfit. All are welcome for this safe and fun Halloween celebration!
URL:https://rogersvillechamber.com/event/trunk-or-treat-fordland-clinic/
CATEGORIES:Community Event
ATTACH;FMTTYPE=image/jpeg:https://rogersvillechamber.com/media/uploads/2023/10/394267178_874749047880501_8021828524011179559_n-1.jpg
END:VEVENT
END:VCALENDAR