BEGIN:VCALENDAR
VERSION:2.0
PRODID:-//Rogersville Area Chamber of Commerce - ECPv6.15.20//NONSGML v1.0//EN
CALSCALE:GREGORIAN
METHOD:PUBLISH
X-ORIGINAL-URL:https://rogersvillechamber.com
X-WR-CALDESC:Events for Rogersville Area Chamber of Commerce
REFRESH-INTERVAL;VALUE=DURATION:PT1H
X-Robots-Tag:noindex
X-PUBLISHED-TTL:PT1H
BEGIN:VTIMEZONE
TZID:America/Chicago
BEGIN:DAYLIGHT
TZOFFSETFROM:-0600
TZOFFSETTO:-0500
TZNAME:CDT
DTSTART:20220313T080000
END:DAYLIGHT
BEGIN:STANDARD
TZOFFSETFROM:-0500
TZOFFSETTO:-0600
TZNAME:CST
DTSTART:20221106T070000
END:STANDARD
BEGIN:DAYLIGHT
TZOFFSETFROM:-0600
TZOFFSETTO:-0500
TZNAME:CDT
DTSTART:20230312T080000
END:DAYLIGHT
BEGIN:STANDARD
TZOFFSETFROM:-0500
TZOFFSETTO:-0600
TZNAME:CST
DTSTART:20231105T070000
END:STANDARD
BEGIN:DAYLIGHT
TZOFFSETFROM:-0600
TZOFFSETTO:-0500
TZNAME:CDT
DTSTART:20240310T080000
END:DAYLIGHT
BEGIN:STANDARD
TZOFFSETFROM:-0500
TZOFFSETTO:-0600
TZNAME:CST
DTSTART:20241103T070000
END:STANDARD
END:VTIMEZONE
BEGIN:VEVENT
DTSTART;TZID=America/Chicago:20230406T173000
DTEND;TZID=America/Chicago:20230406T180000
DTSTAMP:20260420T050104
CREATED:20230329T172930Z
LAST-MODIFIED:20230329T194525Z
UID:5481-1680802200-1680804000@rogersvillechamber.com
SUMMARY:Open House Celebration
DESCRIPTION:Join the City of Rogersville as they bid farewell to Leon Roderick\, Alderman for the city for the past 25 years! \nCake and punch will be served.
URL:https://rogersvillechamber.com/event/open-house-celebration/
LOCATION:Rogersville City Hall\, 211 E. Center St.\, Rogersville\, MO\, 65742\, United States
CATEGORIES:City Government,Community Event
ATTACH;FMTTYPE=image/png:https://rogersvillechamber.com/media/uploads/2023/03/Leon-Open-House-1.png
END:VEVENT
BEGIN:VEVENT
DTSTART;TZID=America/Chicago:20230408T100000
DTEND;TZID=America/Chicago:20230408T130000
DTSTAMP:20260420T050104
CREATED:20230222T220614Z
LAST-MODIFIED:20230324T150215Z
UID:5334-1680948000-1680958800@rogersvillechamber.com
SUMMARY:1st Annual City Egg Hunt
DESCRIPTION:RESCHEDULED FROM 3/25 TO 4/8 \n🥚 Come join the City of Rogersville in its first annual Egg Hunt! There will be concessions\, a bounce house\, and games! 🥚\n🧺 Bring your own basket! 🧺
URL:https://rogersvillechamber.com/event/1st-annual-city-egg-hunt/
LOCATION:Rogersville City Park\, 270 County Line Rd.\, Rogersville\, MO\, 65742\, United States
CATEGORIES:City Government
ATTACH;FMTTYPE=image/png:https://rogersvillechamber.com/media/uploads/2023/02/Egg-Hunt-Farmers-Market-Flyer_2023.png
END:VEVENT
BEGIN:VEVENT
DTSTART;TZID=America/Chicago:20230408T110000
DTEND;TZID=America/Chicago:20230408T130000
DTSTAMP:20260420T050104
CREATED:20230308T202541Z
LAST-MODIFIED:20230308T202541Z
UID:5417-1680951600-1680958800@rogersvillechamber.com
SUMMARY:Easter at Harmony
DESCRIPTION:Join us for Easter at Harmony. We kick it off with our Easter Eggstravaganza on Saturday\, April 8th from 11am-1pm. We will have an Easter egg hunt\, inflatables\, hot dogs\, cotton candy and more! Bring the whole family and invite your family and friends!
URL:https://rogersvillechamber.com/event/easter-at-harmony/
LOCATION:Harmony Baptist Church – Rogersville\, 5105 S. State Hwy 125\, Rogersville\, MO\, 65742\, United States
CATEGORIES:Community Event
ATTACH;FMTTYPE=image/jpeg:https://rogersvillechamber.com/media/uploads/2023/03/332060675_9569055769786962_2410883480491728329_n.jpg
END:VEVENT
BEGIN:VEVENT
DTSTART;TZID=America/Chicago:20230408T180000
DTEND;TZID=America/Chicago:20230408T200000
DTSTAMP:20260420T050104
CREATED:20230308T195734Z
LAST-MODIFIED:20230308T195734Z
UID:5413-1680976800-1680984000@rogersvillechamber.com
SUMMARY:Partners for Progress Gala
DESCRIPTION:As Safe Haven Now prepares for our upcoming Partners for Progress Gala the evening is looking more and more eventful. It will include Door Prizes\, Raffle and Auction to benefit the new learning center and food pantry in Rogersville\, but most of all we are most excited to bring to the evening our guest speaker Sara Forhetz!
URL:https://rogersvillechamber.com/event/partners-for-progress-gala/
LOCATION:MO
CATEGORIES:Community Fundraiser
ATTACH;FMTTYPE=image/png:https://rogersvillechamber.com/media/uploads/2023/03/Screenshot-17.png
ORGANIZER;CN="Safe Haven Now - Rogersville":MAILTO:shn117rog@gmail.com
END:VEVENT
BEGIN:VEVENT
DTSTART;TZID=America/Chicago:20230411T114500
DTEND;TZID=America/Chicago:20230411T130000
DTSTAMP:20260420T050104
CREATED:20230329T174135Z
LAST-MODIFIED:20230329T193352Z
UID:5480-1681213500-1681218000@rogersvillechamber.com
SUMMARY:April Membership Meeting
DESCRIPTION:Be sure to RSVP even if you won’t be enjoying lunch! \nIt is highly recommended to RSVP for lunch PRIOR to the event date as food is often catered in according to the number of RSVP’s. If you would like lunch\, but want to pay at the door please email me HERE. \nMEETING DETAILS\nGuest Speaker: Lori Pace | Hospital Services Specialist for Mid-America Transplant\nTopic: “Inspired by Life— Understanding the Facts and Myths of Organ & Tissue Donation.”\nCost: Free to attend. Lunch is optional. \nLUNCH DETAILS\nCost for Lunch: $15.00 per person; you MUST RSVP for lunch prior to event.\nMenu: Catered by Samuel Cedars – NEW Asian inspired menu! \nBeef and Broccoli\nFried Chicken Bites\nCashew and Sweet and Sour Sauce\nFried & Steamed Rice\nEgg Rolls and Crab Rangoons\nCookies\nTea/Lemonade\n\nDATE & LOCATION\nApril 11\, 2023 | 11:45am – 1:00pm\nSamuel Cedars Event Center\n5124 S. Farm Road 213\nRogersville\, MO
URL:https://rogersvillechamber.com/event/april-membership-meeting/
LOCATION:Samuel Cedars\, 5124 S Farm Rd 213\, Rogersville\, MO\, 65742\, United States
CATEGORIES:Membership Meeting
ATTACH;FMTTYPE=image/png:https://rogersvillechamber.com/media/uploads/2023/03/Copy-of-Chamber-Membership-Meetings-8.png
ORGANIZER;CN="Rogersville Area Chamber of Commerce":MAILTO:info@rogersvillechamber.com
END:VEVENT
BEGIN:VEVENT
DTSTART;TZID=America/Chicago:20230415T070000
DTEND;TZID=America/Chicago:20230415T150000
DTSTAMP:20260420T050104
CREATED:20221230T205752Z
LAST-MODIFIED:20221230T210503Z
UID:4953-1681542000-1681570800@rogersvillechamber.com
SUMMARY:Yard Waste Day
DESCRIPTION:7am-3pm\nLocated at Waste Treatment Plant (701 Miller Road)
URL:https://rogersvillechamber.com/event/yard-waste-day/
LOCATION:MO
CATEGORIES:City Government
END:VEVENT
BEGIN:VEVENT
DTSTART;TZID=America/Chicago:20230420T180000
DTEND;TZID=America/Chicago:20230420T210000
DTSTAMP:20260420T050104
CREATED:20230114T012651Z
LAST-MODIFIED:20230114T012651Z
UID:5129-1682013600-1682024400@rogersvillechamber.com
SUMMARY:Father Daughter Dance 2023 | CreedsTown Ranch
DESCRIPTION:Join us for our 2023 annual Father Daughter Dance!  \nEvent is open to students 6th grade and younger.
URL:https://rogersvillechamber.com/event/father-daughter-dance-2023-creedstown-ranch/
LOCATION:Creedtown Ranch\, 1625 Century Farm Road\, Fordland\, MO\, 65654\, United States
CATEGORIES:Parties
ORGANIZER;CN="CreedsTown Ranch":MAILTO:creedstownranch@gmail.com
END:VEVENT
END:VCALENDAR