BEGIN:VCALENDAR
VERSION:2.0
PRODID:-//Rogersville Area Chamber of Commerce - ECPv6.15.20//NONSGML v1.0//EN
CALSCALE:GREGORIAN
METHOD:PUBLISH
X-ORIGINAL-URL:https://rogersvillechamber.com
X-WR-CALDESC:Events for Rogersville Area Chamber of Commerce
REFRESH-INTERVAL;VALUE=DURATION:PT1H
X-Robots-Tag:noindex
X-PUBLISHED-TTL:PT1H
BEGIN:VTIMEZONE
TZID:America/Chicago
BEGIN:DAYLIGHT
TZOFFSETFROM:-0600
TZOFFSETTO:-0500
TZNAME:CDT
DTSTART:20220313T080000
END:DAYLIGHT
BEGIN:STANDARD
TZOFFSETFROM:-0500
TZOFFSETTO:-0600
TZNAME:CST
DTSTART:20221106T070000
END:STANDARD
BEGIN:DAYLIGHT
TZOFFSETFROM:-0600
TZOFFSETTO:-0500
TZNAME:CDT
DTSTART:20230312T080000
END:DAYLIGHT
BEGIN:STANDARD
TZOFFSETFROM:-0500
TZOFFSETTO:-0600
TZNAME:CST
DTSTART:20231105T070000
END:STANDARD
BEGIN:DAYLIGHT
TZOFFSETFROM:-0600
TZOFFSETTO:-0500
TZNAME:CDT
DTSTART:20240310T080000
END:DAYLIGHT
BEGIN:STANDARD
TZOFFSETFROM:-0500
TZOFFSETTO:-0600
TZNAME:CST
DTSTART:20241103T070000
END:STANDARD
END:VTIMEZONE
BEGIN:VEVENT
DTSTART;VALUE=DATE:20230503
DTEND;VALUE=DATE:20230508
DTSTAMP:20260420T062211
CREATED:20221230T211302Z
LAST-MODIFIED:20221230T211302Z
UID:4970-1683072000-1683503999@rogersvillechamber.com
SUMMARY:Tractor Pull/Car Show
DESCRIPTION:More details TBA!
URL:https://rogersvillechamber.com/event/tractor-pull-car-show/
LOCATION:MO
CATEGORIES:City Government
END:VEVENT
BEGIN:VEVENT
DTSTART;TZID=America/Chicago:20230520T070000
DTEND;TZID=America/Chicago:20230520T150000
DTSTAMP:20260420T062211
CREATED:20221230T205849Z
LAST-MODIFIED:20221230T205940Z
UID:4955-1684566000-1684594800@rogersvillechamber.com
SUMMARY:Yard Waste Day
DESCRIPTION:7am-3pm\nLocated at Waste Treatment Plant (701 Miller Road)
URL:https://rogersvillechamber.com/event/yard-waste-day-2/
LOCATION:MO
CATEGORIES:City Government
END:VEVENT
BEGIN:VEVENT
DTSTART;TZID=America/Chicago:20230520T073000
DTEND;TZID=America/Chicago:20230520T093000
DTSTAMP:20260420T062211
CREATED:20230213T222041Z
LAST-MODIFIED:20230515T181413Z
UID:5327-1684567800-1684575000@rogersvillechamber.com
SUMMARY:3rd Saturday Community Breakfast
DESCRIPTION:Join the Rogersville Senior Center for a BIG breakfast every 3rd Saturday of the month. \nAdults: $6.00\nChildren (12 and under): $4.00
URL:https://rogersvillechamber.com/event/3rd-saturday-community-breakfast/
LOCATION:Rogersville Senior Center\, 197 S. Marshall St.\, Rogersville\, MO\, 65742\, United States
CATEGORIES:Community Event
ATTACH;FMTTYPE=image/png:https://rogersvillechamber.com/media/uploads/2023/02/Saturday-2.png
END:VEVENT
BEGIN:VEVENT
DTSTART;TZID=America/Chicago:20230523T100000
DTEND;TZID=America/Chicago:20230523T160000
DTSTAMP:20260420T062211
CREATED:20230511T162252Z
LAST-MODIFIED:20230511T162252Z
UID:5725-1684836000-1684857600@rogersvillechamber.com
SUMMARY:Hiring Event | Imperial\, LLC
DESCRIPTION:If you think you have what it takes to make an impact\, why wait? Apply now and be part of something awesome!
URL:https://rogersvillechamber.com/event/hiring-event-imperial-llc/
LOCATION:LR Fire Station #6\, 1120 S. Mill Street\, Rogersville\, 65742\, United States
CATEGORIES:Job Fair
ATTACH;FMTTYPE=image/png:https://rogersvillechamber.com/media/uploads/2023/05/05-23-2023-Rogersville-Hiring-Event-Flyer.png
ORGANIZER;CN="Imperial%2C LLC":MAILTO:lesterl@imperialco.com
END:VEVENT
END:VCALENDAR