BEGIN:VCALENDAR
VERSION:2.0
PRODID:-//Rogersville Area Chamber of Commerce - ECPv6.15.20//NONSGML v1.0//EN
CALSCALE:GREGORIAN
METHOD:PUBLISH
X-WR-CALNAME:Rogersville Area Chamber of Commerce
X-ORIGINAL-URL:https://rogersvillechamber.com
X-WR-CALDESC:Events for Rogersville Area Chamber of Commerce
REFRESH-INTERVAL;VALUE=DURATION:PT1H
X-Robots-Tag:noindex
X-PUBLISHED-TTL:PT1H
BEGIN:VTIMEZONE
TZID:America/Chicago
BEGIN:DAYLIGHT
TZOFFSETFROM:-0600
TZOFFSETTO:-0500
TZNAME:CDT
DTSTART:20220313T080000
END:DAYLIGHT
BEGIN:STANDARD
TZOFFSETFROM:-0500
TZOFFSETTO:-0600
TZNAME:CST
DTSTART:20221106T070000
END:STANDARD
BEGIN:DAYLIGHT
TZOFFSETFROM:-0600
TZOFFSETTO:-0500
TZNAME:CDT
DTSTART:20230312T080000
END:DAYLIGHT
BEGIN:STANDARD
TZOFFSETFROM:-0500
TZOFFSETTO:-0600
TZNAME:CST
DTSTART:20231105T070000
END:STANDARD
BEGIN:DAYLIGHT
TZOFFSETFROM:-0600
TZOFFSETTO:-0500
TZNAME:CDT
DTSTART:20240310T080000
END:DAYLIGHT
BEGIN:STANDARD
TZOFFSETFROM:-0500
TZOFFSETTO:-0600
TZNAME:CST
DTSTART:20241103T070000
END:STANDARD
END:VTIMEZONE
BEGIN:VEVENT
DTSTART;VALUE=DATE:20231202
DTEND;VALUE=DATE:20231203
DTSTAMP:20260420T143339
CREATED:20221230T211503Z
LAST-MODIFIED:20230406T182846Z
UID:4974-1701475200-1701561599@rogersvillechamber.com
SUMMARY:Christmas Parade/Tree Lighting Ceremony
DESCRIPTION:More details TBA!
URL:https://rogersvillechamber.com/event/christmas-parade-tree-lighting-ceremony/
LOCATION:MO
CATEGORIES:City Government
END:VEVENT
BEGIN:VEVENT
DTSTART;TZID=America/Chicago:20231222T180000
DTEND;TZID=America/Chicago:20231222T220000
DTSTAMP:20260420T143339
CREATED:20230915T190012Z
LAST-MODIFIED:20231128T181342Z
UID:6056-1703268000-1703282400@rogersvillechamber.com
SUMMARY:2023 Chamber of Commerce Christmas Party
DESCRIPTION:Join us for our annual Christmas party & Membership Meeting! \n$40/ Person\nDinner Includes: \n\nGarlic & White Wine Shrimp Scampi\nTender Beef Medallions with Rosemary Au Jus & Figs\nOven Roasted Seasonal Vegetable Medley\nRosemary Au Gratin Potatoes\nTossed Garden Salad with Julienne Vegetables\, Cherry Tomato & Cucumber\nWarm Rolls & Butter\nA Holiday Assortment of Mini Dessert Bites\nWater & Iced Tea\nHot Cocoa Bar\n\n*Cash Bar for alcohol services will be available.
URL:https://rogersvillechamber.com/event/2023-chamber-of-commerce-christmas-party/
LOCATION:Hilton Garden Inn – Springfield\, 4155 S Nature Center Way\, Springfield\, 65804\, United States
CATEGORIES:Community Event
ATTACH;FMTTYPE=image/png:https://rogersvillechamber.com/media/uploads/2023/09/Greenery-Festive-Christmas-Party-Invitation.png
ORGANIZER;CN="Rogersville Area Chamber of Commerce":MAILTO:info@rogersvillechamber.com
END:VEVENT
END:VCALENDAR