BEGIN:VCALENDAR
VERSION:2.0
PRODID:-//Rogersville Area Chamber of Commerce - ECPv6.15.20//NONSGML v1.0//EN
CALSCALE:GREGORIAN
METHOD:PUBLISH
X-ORIGINAL-URL:https://rogersvillechamber.com
X-WR-CALDESC:Events for Rogersville Area Chamber of Commerce
REFRESH-INTERVAL;VALUE=DURATION:PT1H
X-Robots-Tag:noindex
X-PUBLISHED-TTL:PT1H
BEGIN:VTIMEZONE
TZID:America/Chicago
BEGIN:DAYLIGHT
TZOFFSETFROM:-0600
TZOFFSETTO:-0500
TZNAME:CDT
DTSTART:20240310T080000
END:DAYLIGHT
BEGIN:STANDARD
TZOFFSETFROM:-0500
TZOFFSETTO:-0600
TZNAME:CST
DTSTART:20241103T070000
END:STANDARD
BEGIN:DAYLIGHT
TZOFFSETFROM:-0600
TZOFFSETTO:-0500
TZNAME:CDT
DTSTART:20250309T080000
END:DAYLIGHT
BEGIN:STANDARD
TZOFFSETFROM:-0500
TZOFFSETTO:-0600
TZNAME:CST
DTSTART:20251102T070000
END:STANDARD
BEGIN:DAYLIGHT
TZOFFSETFROM:-0600
TZOFFSETTO:-0500
TZNAME:CDT
DTSTART:20260308T080000
END:DAYLIGHT
BEGIN:STANDARD
TZOFFSETFROM:-0500
TZOFFSETTO:-0600
TZNAME:CST
DTSTART:20261101T070000
END:STANDARD
END:VTIMEZONE
BEGIN:VEVENT
DTSTART;TZID=America/Chicago:20250909T114500
DTEND;TZID=America/Chicago:20250909T130000
DTSTAMP:20260420T143421
CREATED:20250226T211907Z
LAST-MODIFIED:20250820T223029Z
UID:7545-1757418300-1757422800@rogersvillechamber.com
SUMMARY:September Membership Meeting 2025
DESCRIPTION:🌟 Join us for the Rogersville Chamber Monthly Membership Meeting! 🌟 \nTime: 11:45am-1pm \nLocation: Story Church 203 S Jamestown Blvd Rogersville Mo\, 65742 \nThis is a fantastic networking opportunity to connect with fellow business owners\, promote your business with flyers\, and generate new opportunities. \n🎤 Hear from our guest speaker and get the latest updates on upcoming events in our community! \n  \nMeeting Topic: Organic Social Media Marketing 101 for Small Business Owners \nSocial media can feel overwhelming\, especially when you’re wearing all the hats as a small business owner. This presentation will break down the basics of organic social media marketing into clear and actionable steps you can start using right away. We’ll cover how to identify the platforms that matter most\, how to create content that truly connects with your audience\, and simple strategies that help turn followers into paying customers. \nI’m Christine Morton\, CEO of Morton Marketing 417. Over the last decade\, I’ve gone from high school teacher to TV news reporter to running a full-service social media marketing agency that manages national brands and local powerhouses alike. I’ve trained business owners\, marketing teams\, and organizations on how to leverage social media without the overwhelm and I’m excited to help you do the same. \n  \n👥 FREE to Attend \n🍽️ Lunch: $15 \nMenu:\nCozumel \nYou MUST RSVP and PAY for lunch PRIOR to the event date as food is catered in according to the number of paid RSVP’s \nDon’t miss out on this chance to grow your business and stay informed. We look forward to seeing you there! \n#RogersvilleChamber #Networking #BusinessGrowth #CommunityEvents
URL:https://rogersvillechamber.com/event/september-membership-meeting-2025/
LOCATION:MO
END:VEVENT
END:VCALENDAR